Package: XVector Version: 0.51.0 Command: /Library/Frameworks/R.framework/Resources/bin/R CMD build --keep-empty-dirs --no-resave-data XVector StartedAt: 2025-11-13 18:10:35 -0500 (Thu, 13 Nov 2025) EndedAt: 2025-11-13 18:10:36 -0500 (Thu, 13 Nov 2025) EllapsedTime: 1.0 seconds RetCode: 0 Status: OK PackageFile: XVector_0.51.0.tar.gz PackageFileSize: 67.47 KiB