Package: XVector Version: 0.51.0 Command: rm -rf XVector.buildbin-libdir && mkdir XVector.buildbin-libdir && /Users/biocbuild/BBS/utils/build-universal.sh XVector_0.51.0.tar.gz /Library/Frameworks/R.framework/Resources/bin/R XVector.buildbin-libdir StartedAt: 2025-11-14 00:01:41 -0500 (Fri, 14 Nov 2025) EndedAt: 2025-11-14 00:01:49 -0500 (Fri, 14 Nov 2025) EllapsedTime: 8.2 seconds RetCode: 0 Status: OK PackageFile: XVector_0.51.0.tgz PackageFileSize: 627.2 KiB