Package: XNAString Version: 1.17.1 Command: /home/biocbuild/bbs-3.23-bioc/R/bin/R CMD INSTALL XNAString StartedAt: 2025-10-22 21:37:40 -0000 (Wed, 22 Oct 2025) EndedAt: 2025-10-22 21:37:45 -0000 (Wed, 22 Oct 2025) EllapsedTime: 5.2 seconds RetCode: 1 Status: ERROR