Package: XNAString Version: 1.17.1 Command: /home/biocbuild/bbs-3.23-bioc/R/bin/R CMD build --keep-empty-dirs --no-resave-data XNAString StartedAt: 2025-10-23 00:57:36 -0000 (Thu, 23 Oct 2025) EndedAt: 2025-10-23 00:57:41 -0000 (Thu, 23 Oct 2025) EllapsedTime: 5.0 seconds RetCode: 1 Status: ERROR PackageFile: None PackageFileSize: NA