Package: XINA Version: 1.29.0 Command: /home/biocbuild/bbs-3.23-bioc/R/bin/R CMD INSTALL XINA StartedAt: 2025-11-26 15:11:26 -0500 (Wed, 26 Nov 2025) EndedAt: 2025-11-26 15:11:41 -0500 (Wed, 26 Nov 2025) EllapsedTime: 15.8 seconds RetCode: 0 Status: OK