Package: XINA Version: 1.29.0 Command: /Library/Frameworks/R.framework/Resources/bin/R CMD INSTALL XINA StartedAt: 2025-11-16 15:06:56 -0500 (Sun, 16 Nov 2025) EndedAt: 2025-11-16 15:07:02 -0500 (Sun, 16 Nov 2025) EllapsedTime: 5.6 seconds RetCode: 0 Status: OK