Package: XINA Version: 1.29.0 Command: /Library/Frameworks/R.framework/Resources/bin/R CMD build --keep-empty-dirs --no-resave-data XINA StartedAt: 2025-11-16 18:08:18 -0500 (Sun, 16 Nov 2025) EndedAt: 2025-11-16 18:08:33 -0500 (Sun, 16 Nov 2025) EllapsedTime: 15.2 seconds RetCode: 0 Status: OK PackageFile: XINA_1.29.0.tar.gz PackageFileSize: 3.12 MiB