Package: XINA Version: 1.29.0 Command: rm -rf XINA.buildbin-libdir && mkdir XINA.buildbin-libdir && /Users/biocbuild/BBS/utils/build-universal.sh XINA_1.29.0.tar.gz /Library/Frameworks/R.framework/Resources/bin/R XINA.buildbin-libdir StartedAt: 2025-11-16 23:58:03 -0500 (Sun, 16 Nov 2025) EndedAt: 2025-11-16 23:58:08 -0500 (Sun, 16 Nov 2025) EllapsedTime: 5.1 seconds RetCode: 0 Status: OK PackageFile: XINA_1.29.0.tgz PackageFileSize: 3.254 MiB