Package: XINA Version: 1.29.0 Maintainer: Lang Ho Lee MaintainerEmail: lhlee at bwh.harvard.edu git_url: https://git.bioconductor.org/packages/XINA git_branch: devel git_last_commit: 6e730aa git_last_commit_date: 2025-10-29 10:47:20 -0500 (Wed, 29 Oct 2025)