Package: XAItest Version: 1.3.0 Command: /home/biocbuild/bbs-3.23-bioc/R/bin/R CMD INSTALL XAItest StartedAt: 2025-11-13 15:22:23 -0500 (Thu, 13 Nov 2025) EndedAt: 2025-11-13 15:22:27 -0500 (Thu, 13 Nov 2025) EllapsedTime: 3.4 seconds RetCode: 0 Status: OK