Package: XAItest Version: 1.3.0 Command: /Library/Frameworks/R.framework/Resources/bin/R CMD build --keep-empty-dirs --no-resave-data XAItest StartedAt: 2025-11-13 18:09:21 -0500 (Thu, 13 Nov 2025) EndedAt: 2025-11-13 18:10:35 -0500 (Thu, 13 Nov 2025) EllapsedTime: 74.8 seconds RetCode: 0 Status: OK PackageFile: XAItest_1.3.0.tar.gz PackageFileSize: 1.388 MiB