Package: XAItest Version: 1.3.0 Maintainer: Ghislain FIEVET MaintainerEmail: ghislain.fievet at gmail.com git_url: https://git.bioconductor.org/packages/XAItest git_branch: devel git_last_commit: b1f364c git_last_commit_date: 2025-10-29 11:35:10 -0500 (Wed, 29 Oct 2025)