Package: VplotR Version: 1.21.0 Command: /home/biocbuild/bbs-3.23-bioc/R/bin/R CMD INSTALL VplotR StartedAt: 2025-11-13 15:50:11 -0500 (Thu, 13 Nov 2025) EndedAt: 2025-11-13 15:50:43 -0500 (Thu, 13 Nov 2025) EllapsedTime: 31.6 seconds RetCode: 0 Status: OK