Package: VplotR Version: 1.21.0 Command: /home/biocbuild/bbs-3.23-bioc/R/bin/R CMD check --install=check:VplotR.install-out.txt --library=/home/biocbuild/bbs-3.23-bioc/R/site-library --timings VplotR_1.21.0.tar.gz StartedAt: 2025-11-14 05:10:13 -0500 (Fri, 14 Nov 2025) EndedAt: 2025-11-14 05:16:53 -0500 (Fri, 14 Nov 2025) EllapsedTime: 399.4 seconds RetCode: 0 Status: OK CheckDir: VplotR.Rcheck Warnings: 0