Package: VplotR Version: 1.21.0 Command: /home/biocbuild/bbs-3.23-bioc/R/bin/R CMD build --keep-empty-dirs --no-resave-data VplotR StartedAt: 2025-11-13 20:43:51 -0500 (Thu, 13 Nov 2025) EndedAt: 2025-11-13 20:45:37 -0500 (Thu, 13 Nov 2025) EllapsedTime: 106.1 seconds RetCode: 0 Status: OK PackageFile: VplotR_1.21.0.tar.gz PackageFileSize: 5.154 MiB