Package: VplotR Version: 1.21.0 Command: /Library/Frameworks/R.framework/Resources/bin/R CMD INSTALL VplotR StartedAt: 2025-11-12 15:37:35 -0500 (Wed, 12 Nov 2025) EndedAt: 2025-11-12 15:37:47 -0500 (Wed, 12 Nov 2025) EllapsedTime: 12.6 seconds RetCode: 0 Status: OK