Package: VplotR Version: 1.21.0 Command: /Library/Frameworks/R.framework/Resources/bin/R CMD check --install=check:VplotR.install-out.txt --library=/Library/Frameworks/R.framework/Resources/library --no-vignettes --timings VplotR_1.21.0.tar.gz StartedAt: 2025-11-12 20:44:56 -0500 (Wed, 12 Nov 2025) EndedAt: 2025-11-12 20:47:14 -0500 (Wed, 12 Nov 2025) EllapsedTime: 137.5 seconds RetCode: 0 Status: OK CheckDir: VplotR.Rcheck Warnings: 0