Package: VplotR Version: 1.21.0 Command: /Library/Frameworks/R.framework/Resources/bin/R CMD build --keep-empty-dirs --no-resave-data VplotR StartedAt: 2025-11-12 17:27:53 -0500 (Wed, 12 Nov 2025) EndedAt: 2025-11-12 17:28:47 -0500 (Wed, 12 Nov 2025) EllapsedTime: 54.7 seconds RetCode: 0 Status: OK PackageFile: VplotR_1.21.0.tar.gz PackageFileSize: 5.163 MiB