Package: VplotR Version: 1.21.0 Command: rm -rf VplotR.buildbin-libdir && mkdir VplotR.buildbin-libdir && /Users/biocbuild/BBS/utils/build-universal.sh VplotR_1.21.0.tar.gz /Library/Frameworks/R.framework/Resources/bin/R VplotR.buildbin-libdir StartedAt: 2025-11-12 21:13:56 -0500 (Wed, 12 Nov 2025) EndedAt: 2025-11-12 21:14:10 -0500 (Wed, 12 Nov 2025) EllapsedTime: 14.4 seconds RetCode: 0 Status: OK PackageFile: VplotR_1.21.0.tgz PackageFileSize: 5.279 MiB