Package: VisiumIO Version: 1.7.2 Command: /home/biocbuild/bbs-3.23-bioc/R/bin/R CMD INSTALL VisiumIO StartedAt: 2025-11-14 15:36:52 -0500 (Fri, 14 Nov 2025) EndedAt: 2025-11-14 15:37:19 -0500 (Fri, 14 Nov 2025) EllapsedTime: 26.5 seconds RetCode: 0 Status: OK