Package: VisiumIO Version: 1.7.2 Command: /home/biocbuild/bbs-3.23-bioc/R/bin/R CMD build --keep-empty-dirs --no-resave-data VisiumIO StartedAt: 2025-11-14 20:42:24 -0500 (Fri, 14 Nov 2025) EndedAt: 2025-11-14 20:43:05 -0500 (Fri, 14 Nov 2025) EllapsedTime: 41.0 seconds RetCode: 0 Status: OK PackageFile: VisiumIO_1.7.2.tar.gz PackageFileSize: 1.828 MiB