Package: VegaMC Version: 3.49.0 Command: /Library/Frameworks/R.framework/Resources/bin/R CMD INSTALL VegaMC StartedAt: 2025-11-25 15:09:34 -0500 (Tue, 25 Nov 2025) EndedAt: 2025-11-25 15:09:40 -0500 (Tue, 25 Nov 2025) EllapsedTime: 5.8 seconds RetCode: 0 Status: OK