Package: VegaMC Version: 3.49.0 Command: /Library/Frameworks/R.framework/Resources/bin/R CMD build --keep-empty-dirs --no-resave-data VegaMC StartedAt: 2025-11-26 18:03:34 -0500 (Wed, 26 Nov 2025) EndedAt: 2025-11-26 18:03:48 -0500 (Wed, 26 Nov 2025) EllapsedTime: 14.2 seconds RetCode: 0 Status: OK PackageFile: VegaMC_3.49.0.tar.gz PackageFileSize: 1.776 MiB