Package: VariantTools Version: 1.53.0 Command: /home/biocbuild/bbs-3.23-bioc/R/bin/R CMD INSTALL VariantTools StartedAt: 2025-11-13 15:43:21 -0500 (Thu, 13 Nov 2025) EndedAt: 2025-11-13 15:44:01 -0500 (Thu, 13 Nov 2025) EllapsedTime: 40.8 seconds RetCode: 0 Status: OK