Package: VariantTools Version: 1.53.0 Command: /home/biocbuild/bbs-3.23-bioc/R/bin/R CMD build --keep-empty-dirs --no-resave-data VariantTools StartedAt: 2025-11-13 20:40:41 -0500 (Thu, 13 Nov 2025) EndedAt: 2025-11-13 20:41:41 -0500 (Thu, 13 Nov 2025) EllapsedTime: 59.0 seconds RetCode: 1 Status: ERROR PackageFile: None PackageFileSize: NA