Package: VariantTools Version: 1.53.0 Command: /Library/Frameworks/R.framework/Resources/bin/R CMD INSTALL VariantTools StartedAt: 2025-11-13 15:23:02 -0500 (Thu, 13 Nov 2025) EndedAt: 2025-11-13 15:23:19 -0500 (Thu, 13 Nov 2025) EllapsedTime: 16.5 seconds RetCode: 0 Status: OK