Package: VariantTools Version: 1.53.0 Command: /Library/Frameworks/R.framework/Resources/bin/R CMD check --install=check:VariantTools.install-out.txt --library=/Library/Frameworks/R.framework/Resources/library --no-vignettes --timings VariantTools_1.53.0.tar.gz StartedAt: 2025-11-13 23:12:59 -0500 (Thu, 13 Nov 2025) EndedAt: 2025-11-13 23:13:03 -0500 (Thu, 13 Nov 2025) EllapsedTime: 4.0 seconds RetCode: 1 Status: ERROR CheckDir: VariantTools.Rcheck Warnings: NA