Package: VariantExperiment Version: 1.25.0 Command: /home/biocbuild/bbs-3.23-bioc/R/bin/R CMD INSTALL VariantExperiment StartedAt: 2025-11-11 15:28:47 -0500 (Tue, 11 Nov 2025) EndedAt: 2025-11-11 15:29:11 -0500 (Tue, 11 Nov 2025) EllapsedTime: 23.9 seconds RetCode: 0 Status: OK