Package: VariantExperiment Version: 1.25.0 Command: /home/biocbuild/bbs-3.23-bioc/R/bin/R CMD build --keep-empty-dirs --no-resave-data VariantExperiment StartedAt: 2025-11-13 20:40:38 -0500 (Thu, 13 Nov 2025) EndedAt: 2025-11-13 20:41:24 -0500 (Thu, 13 Nov 2025) EllapsedTime: 45.0 seconds RetCode: 0 Status: OK PackageFile: VariantExperiment_1.25.0.tar.gz PackageFileSize: 326.5 KiB