Package: VariantExperiment Version: 1.25.0 Command: /Library/Frameworks/R.framework/Resources/bin/R CMD INSTALL VariantExperiment StartedAt: 2025-11-13 15:15:35 -0500 (Thu, 13 Nov 2025) EndedAt: 2025-11-13 15:15:45 -0500 (Thu, 13 Nov 2025) EllapsedTime: 10.0 seconds RetCode: 0 Status: OK