############################################################################## ############################################################################## ### ### Running command: ### ### /Library/Frameworks/R.framework/Resources/bin/R CMD build --keep-empty-dirs --no-resave-data VariantExperiment ### ############################################################################## ############################################################################## * checking for file ‘VariantExperiment/DESCRIPTION’ ... OK * preparing ‘VariantExperiment’: * checking DESCRIPTION meta-information ... OK * installing the package (it is needed to build vignettes) ----------------------------------- ERROR: dependencies ‘GDSArray’, ‘gdsfmt’, ‘SNPRelate’, ‘SeqArray’ are not available for package ‘VariantExperiment’ Perhaps try a variation of: install.packages(c('GDSArray', 'gdsfmt', 'SNPRelate', 'SeqArray')) * removing ‘/private/var/folders/r0/l4fjk6cj5xj0j3brt4bplpl40000gt/T/RtmpKfF5s0/Rinst711b376b6f3c/VariantExperiment’ ----------------------------------- ERROR: package installation failed