Package: VariantExperiment Version: 1.25.0 Maintainer: Qian Liu MaintainerEmail: Qian.Liu at roswellpark.org git_url: https://git.bioconductor.org/packages/VariantExperiment git_branch: devel git_last_commit: 230466e git_last_commit_date: 2025-10-29 10:53:44 -0500 (Wed, 29 Oct 2025)