Package: VariantAnnotation Version: 1.57.0 Command: /home/biocbuild/bbs-3.23-bioc/R/bin/R CMD INSTALL VariantAnnotation StartedAt: 2025-11-11 15:43:25 -0500 (Tue, 11 Nov 2025) EndedAt: 2025-11-11 15:44:36 -0500 (Tue, 11 Nov 2025) EllapsedTime: 71.0 seconds RetCode: 0 Status: OK