Package: VariantAnnotation Version: 1.57.0 Command: /home/biocbuild/bbs-3.23-bioc/R/bin/R CMD check --install=check:VariantAnnotation.install-out.txt --library=/home/biocbuild/bbs-3.23-bioc/R/site-library --timings VariantAnnotation_1.57.0.tar.gz StartedAt: 2025-11-12 05:04:50 -0500 (Wed, 12 Nov 2025) EndedAt: 2025-11-12 05:16:00 -0500 (Wed, 12 Nov 2025) EllapsedTime: 669.8 seconds RetCode: 0 Status: WARNINGS CheckDir: VariantAnnotation.Rcheck Warnings: 1