Package: VariantAnnotation Version: 1.57.0 Command: /Library/Frameworks/R.framework/Resources/bin/R CMD check --install=check:VariantAnnotation.install-out.txt --library=/Library/Frameworks/R.framework/Resources/library --no-vignettes --timings VariantAnnotation_1.57.0.tar.gz StartedAt: 2025-11-12 20:43:45 -0500 (Wed, 12 Nov 2025) EndedAt: 2025-11-12 20:47:34 -0500 (Wed, 12 Nov 2025) EllapsedTime: 228.8 seconds RetCode: 0 Status: WARNINGS CheckDir: VariantAnnotation.Rcheck Warnings: 1