Package: VarCon Version: 1.19.0 Command: /home/biocbuild/bbs-3.23-bioc/R/bin/R CMD INSTALL VarCon StartedAt: 2025-11-11 15:35:56 -0500 (Tue, 11 Nov 2025) EndedAt: 2025-11-11 15:36:35 -0500 (Tue, 11 Nov 2025) EllapsedTime: 39.5 seconds RetCode: 0 Status: OK