Package: VarCon Version: 1.19.0 Command: /home/biocbuild/bbs-3.23-bioc/R/bin/R CMD build --keep-empty-dirs --no-resave-data VarCon StartedAt: 2025-11-14 20:39:55 -0500 (Fri, 14 Nov 2025) EndedAt: 2025-11-14 20:40:47 -0500 (Fri, 14 Nov 2025) EllapsedTime: 52.0 seconds RetCode: 0 Status: OK PackageFile: VarCon_1.19.0.tar.gz PackageFileSize: 1.889 MiB