Package: VarCon Version: 1.19.0 Command: /Library/Frameworks/R.framework/Resources/bin/R CMD INSTALL VarCon StartedAt: 2025-11-12 15:34:24 -0500 (Wed, 12 Nov 2025) EndedAt: 2025-11-12 15:34:38 -0500 (Wed, 12 Nov 2025) EllapsedTime: 14.1 seconds RetCode: 0 Status: OK