Package: VarCon Version: 1.19.0 Command: /Library/Frameworks/R.framework/Resources/bin/R CMD build --keep-empty-dirs --no-resave-data VarCon StartedAt: 2025-11-12 17:27:06 -0500 (Wed, 12 Nov 2025) EndedAt: 2025-11-12 17:27:32 -0500 (Wed, 12 Nov 2025) EllapsedTime: 26.3 seconds RetCode: 0 Status: OK PackageFile: VarCon_1.19.0.tar.gz PackageFileSize: 1.89 MiB