Package: VaSP Version: 1.23.0 Command: /home/biocbuild/bbs-3.23-bioc/R/bin/R CMD INSTALL VaSP StartedAt: 2025-11-13 15:29:16 -0500 (Thu, 13 Nov 2025) EndedAt: 2025-11-13 15:29:50 -0500 (Thu, 13 Nov 2025) EllapsedTime: 34.3 seconds RetCode: 0 Status: OK