Package: VaSP Version: 1.23.0 Command: /home/biocbuild/bbs-3.23-bioc/R/bin/R CMD build --keep-empty-dirs --no-resave-data VaSP StartedAt: 2025-11-13 20:40:55 -0500 (Thu, 13 Nov 2025) EndedAt: 2025-11-13 20:41:46 -0500 (Thu, 13 Nov 2025) EllapsedTime: 50.0 seconds RetCode: 0 Status: OK PackageFile: VaSP_1.23.0.tar.gz PackageFileSize: 8.456 MiB