Package: VaSP Version: 1.23.0 Command: /Library/Frameworks/R.framework/Resources/bin/R CMD INSTALL VaSP StartedAt: 2025-11-13 15:17:27 -0500 (Thu, 13 Nov 2025) EndedAt: 2025-11-13 15:17:41 -0500 (Thu, 13 Nov 2025) EllapsedTime: 13.5 seconds RetCode: 0 Status: OK