Package: VaSP Version: 1.23.0 Command: /Library/Frameworks/R.framework/Resources/bin/R CMD build --keep-empty-dirs --no-resave-data VaSP StartedAt: 2025-11-13 18:06:00 -0500 (Thu, 13 Nov 2025) EndedAt: 2025-11-13 18:06:25 -0500 (Thu, 13 Nov 2025) EllapsedTime: 24.3 seconds RetCode: 0 Status: OK PackageFile: VaSP_1.23.0.tar.gz PackageFileSize: 8.456 MiB