Package: VaSP Version: 1.23.0 Maintainer: Huihui Yu MaintainerEmail: yuhuihui2011 at foxmail.com git_url: https://git.bioconductor.org/packages/VaSP git_branch: devel git_last_commit: 2b50758 git_last_commit_date: 2025-10-29 10:57:01 -0500 (Wed, 29 Oct 2025)