Package: VCFArray Version: 1.27.0 Command: /home/biocbuild/bbs-3.23-bioc/R/bin/R CMD INSTALL VCFArray StartedAt: 2025-11-11 16:02:01 -0500 (Tue, 11 Nov 2025) EndedAt: 2025-11-11 16:02:43 -0500 (Tue, 11 Nov 2025) EllapsedTime: 42.2 seconds RetCode: 0 Status: OK