Package: VCFArray Version: 1.27.0 Command: /home/biocbuild/bbs-3.23-bioc/R/bin/R CMD check --install=check:VCFArray.install-out.txt --library=/home/biocbuild/bbs-3.23-bioc/R/site-library --timings VCFArray_1.27.0.tar.gz StartedAt: 2025-11-14 05:07:48 -0500 (Fri, 14 Nov 2025) EndedAt: 2025-11-14 05:13:01 -0500 (Fri, 14 Nov 2025) EllapsedTime: 313.4 seconds RetCode: 0 Status: OK CheckDir: VCFArray.Rcheck Warnings: 0