Package: VCFArray Version: 1.27.0 Command: /Library/Frameworks/R.framework/Resources/bin/R CMD build --keep-empty-dirs --no-resave-data VCFArray StartedAt: 2025-11-13 18:06:17 -0500 (Thu, 13 Nov 2025) EndedAt: 2025-11-13 18:06:51 -0500 (Thu, 13 Nov 2025) EllapsedTime: 33.4 seconds RetCode: 0 Status: OK PackageFile: VCFArray_1.27.0.tar.gz PackageFileSize: 302.6 KiB