Package: VCFArray Version: 1.27.0 Maintainer: Qian Liu MaintainerEmail: qliu7 at buffalo.edu git_url: https://git.bioconductor.org/packages/VCFArray git_branch: devel git_last_commit: c9fb606 git_last_commit_date: 2025-10-29 10:49:16 -0500 (Wed, 29 Oct 2025)