Package: VAExprs Version: 1.17.0 Command: /home/biocbuild/bbs-3.23-bioc/R/bin/R CMD INSTALL VAExprs StartedAt: 2025-11-13 15:54:32 -0500 (Thu, 13 Nov 2025) EndedAt: 2025-11-13 15:55:08 -0500 (Thu, 13 Nov 2025) EllapsedTime: 36.0 seconds RetCode: 0 Status: OK