Package: VAExprs Version: 1.17.0 Command: /home/biocbuild/bbs-3.23-bioc/R/bin/R CMD build --keep-empty-dirs --no-resave-data VAExprs StartedAt: 2025-11-14 20:39:44 -0500 (Fri, 14 Nov 2025) EndedAt: 2025-11-14 20:40:27 -0500 (Fri, 14 Nov 2025) EllapsedTime: 43.0 seconds RetCode: 0 Status: OK PackageFile: VAExprs_1.17.0.tar.gz PackageFileSize: 561.8 KiB